BEGIN:VCALENDAR
VERSION:2.0
CALSCALE:GREGORIAN
PRODID:adamgibbons/ics
METHOD:PUBLISH
X-PUBLISHED-TTL:PT1H
BEGIN:VEVENT
UID:15@calendar.punksagainstapartheid.org
SUMMARY:Punks for Palestine VI
DTSTAMP:20260420T065740Z
DTSTART:20260504T180000Z
URL:https://calendar.punksagainstapartheid.org/event/punks-for-palestine-vi
LOCATION:New Cross Inn\, London\, UK - 323 New Cross Road\, New Cross\, Lon
	don\, SE14 6AS
STATUS:CONFIRMED
CATEGORIES:da3m-support,fundraiser,prisoners4palestine,thesameerproject
END:VEVENT
END:VCALENDAR
