BEGIN:VCALENDAR
VERSION:2.0
CALSCALE:GREGORIAN
PRODID:adamgibbons/ics
METHOD:PUBLISH
X-PUBLISHED-TTL:PT1H
BEGIN:VEVENT
UID:18@calendar.punksagainstapartheid.org
SUMMARY:Funky Makers Market Fundraiser for Gaza
DTSTAMP:20260420T051157Z
DTSTART:20260425T130000Z
DTEND:20260425T190000Z
URL:https://calendar.punksagainstapartheid.org/event/funky-makers-market-fu
	ndraiser-for-gaza
LOCATION:Paris Bar Detroit\, Michigan\, US - 2961 E Mcnichols\, Hamtramck/D
	etroit\, 48212
STATUS:CONFIRMED
CATEGORIES:fundraiser
END:VEVENT
BEGIN:VEVENT
UID:22@calendar.punksagainstapartheid.org
SUMMARY:PIEHOUSE ACTIONIST SOLIDARITY FUNDRAISER
DTSTAMP:20260420T051157Z
DTSTART:20260425T180000Z
URL:https://calendar.punksagainstapartheid.org/event/piehouse-actionist-sol
	idarity-fundraiser
LOCATION:Piehouse Co-Op\, London\, UK - 213-214 Edward Place\, Railway Arch
	es\, SE8 5HD
STATUS:CONFIRMED
CATEGORIES:da3m.support,fundraiser,prisoners4palestine
END:VEVENT
BEGIN:VEVENT
UID:15@calendar.punksagainstapartheid.org
SUMMARY:Punks for Palestine VI
DTSTAMP:20260420T051157Z
DTSTART:20260504T180000Z
URL:https://calendar.punksagainstapartheid.org/event/punks-for-palestine-vi
LOCATION:New Cross Inn\, London\, UK - 323 New Cross Road\, New Cross\, Lon
	don\, SE14 6AS
STATUS:CONFIRMED
CATEGORIES:da3m-support,fundraiser,prisoners4palestine,thesameerproject
END:VEVENT
BEGIN:VEVENT
UID:21@calendar.punksagainstapartheid.org
SUMMARY:PAA Lata de Zinc Fundraiser Night!
DTSTAMP:20260420T051157Z
DTSTART:20260619T200000Z
URL:https://calendar.punksagainstapartheid.org/event/paa-lata-de-zinc-fundr
	aiser-night
LOCATION:Chigre Cultural Lata de Zinc\, Oviedo\, Asturias\, Spain - Calle J
	ulián Cañedo\, 4\, L\, 33008 Oviedo\, Asturias
STATUS:CONFIRMED
CATEGORIES:fundraiser,spain
END:VEVENT
END:VCALENDAR
